BEGIN:VCALENDAR
VERSION:2.0
PRODID:-//Squarespace Inc/Squarespace 6//v6//EN
BEGIN:VEVENT
UID:5ce3880bb749220001d0f91e@squarespace.com
DTSTAMP:20190521T051253Z
DTSTART:20190711T063000Z
DTEND:20190711T093000Z
SUMMARY:Yesterday Screening: An OuterSpaces Fundraiser!
GEO:-41.296139;174.775279
LOCATION:Light House Cuba\, 29 Wigan Street\, Wellington\, Wellington\, 601
 1\, New Zealand
END:VEVENT
END:VCALENDAR
