BEGIN:VCALENDAR
VERSION:2.0
PRODID:-//Squarespace Inc/Squarespace 6//v6//EN
BEGIN:VEVENT
UID:5c4bad8221c67c8d50e0c1af@squarespace.com
DTSTAMP:20190126T004825Z
DTSTART:20190721T000000Z
DTEND:20190721T020000Z
SUMMARY:Ruby Slipper Revue Fundraiser
GEO:-41.29328;174.782046
LOCATION:Fringe Bar\, 28 Allen Street\, Wellington\, New Zealand
END:VEVENT
END:VCALENDAR
