BEGIN:VCALENDAR
VERSION:2.0
PRODID:-//Squarespace Inc/Squarespace 6//v6//EN
BEGIN:VEVENT
UID:5cf45f48507b9e00018ec7f3@squarespace.com
DTSTAMP:20190602T235712Z
DTSTART:20190921T090000Z
DTEND:20190921T113000Z
SUMMARY:The Friendliest Drag Show
GEO:-41.290988;174.777189
LOCATION:Ivy Bar\, 63 Cuba Street\, Wellington\, Wellington\, 6011\, New Ze
 aland
END:VEVENT
END:VCALENDAR
