BEGIN:VCALENDAR
VERSION:2.0
PRODID:-//Squarespace Inc/Squarespace 6//v6//EN
BEGIN:VEVENT
UID:5ce386b7f5438b00016dab3f@squarespace.com
DTSTAMP:20190521T050754Z
DTSTART:20190803T003000Z
DTEND:20190803T033000Z
SUMMARY:Fabulunch 2019!
GEO:-41.283179;174.779001
LOCATION:Portofino\, 33 Customhouse Quay\, Wellington\, Wellington\, 6011\, 
 New Zealand
END:VEVENT
END:VCALENDAR
